BEGIN:VCALENDAR
VERSION:2.0
PRODID:-//wp-events-plugin.com//7.2.3.1//EN
BEGIN:VEVENT
UID:1514@greenlakelibrary.org
DTSTART;VALUE=DATE:20241201
DTEND;VALUE=DATE:20241202
DTSTAMP:20241127T162450Z
URL:https://greenlakelibrary.org/events/artist-of-the-month-bev-wilson/
SUMMARY:ARTIST OF THE MONTH: BEV WILSON
DESCRIPTION:
CATEGORIES:General
END:VEVENT
END:VCALENDAR