BEGIN:VCALENDAR
VERSION:2.0
PRODID:-//wp-events-plugin.com//7.2.3.1//EN
BEGIN:VEVENT
UID:2245@greenlakelibrary.org
DTSTART:20260501T150000Z
DTEND:20260501T190000Z
DTSTAMP:20260106T214317Z
URL:https://greenlakelibrary.org/events/friends-of-the-library-book-sale-3
 5/
SUMMARY:Friends of the Library Book Sale
DESCRIPTION:Come find great deals on used\; books\, movies\, music\, puzzle
 s and more!
CATEGORIES:Book Sale
END:VEVENT
END:VCALENDAR