BEGIN:VCALENDAR
VERSION:2.0
PRODID:-//wp-events-plugin.com//7.2.3.1//EN
BEGIN:VEVENT
UID:2287@greenlakelibrary.org
DTSTART:20260613T150000Z
DTEND:20260613T190000Z
DTSTAMP:20260303T171834Z
URL:https://greenlakelibrary.org/events/friends-of-the-library-book-sale-3
 8/
SUMMARY:Friends of the Library Book Sale
DESCRIPTION:Come find great deals on used\; books\, movies\, music\, puzzle
 s and more!
CATEGORIES:Book Sale
END:VEVENT
END:VCALENDAR