BEGIN:VCALENDAR
VERSION:2.0
PRODID:-//wp-events-plugin.com//7.2.3.1//EN
BEGIN:VEVENT
UID:2295@greenlakelibrary.org
DTSTART:20260926T150000Z
DTEND:20260926T220000Z
DTSTAMP:20260303T175146Z
URL:https://greenlakelibrary.org/events/friends-of-the-library-book-sale-4
 6/
SUMMARY:Friends of the Library Book Sale
DESCRIPTION:Come find great deals on used\; books\, movies\, music\, puzzle
 s and more!
CATEGORIES:Book Sale
END:VEVENT
END:VCALENDAR