BEGIN:VCALENDAR
VERSION:2.0
PRODID:-//wp-events-plugin.com//7.2.3.1//EN
BEGIN:VEVENT
UID:1276@greenlakelibrary.org
DTSTART;TZID=America/Chicago:20240827T140000
DTEND;TZID=America/Chicago:20240827T150000
DTSTAMP:20240731T203559Z
URL:https://greenlakelibrary.org/events/make-your-own-walking-stick-craft-
 hickory-room/
SUMMARY:Make Your Own Walking Stick Craft | Hickory Room
DESCRIPTION:Get your hiking boots out\, it's time to make a walking stick!\
 n\nJoin us in the Hickory Room to decorate your very own walking stick wit
 h all sorts of items! It's a great activity to try out your creative side 
 and bring home a great tool for those family hikes. \n\nAll materials wil
 l be provided.
CATEGORIES:General
END:VEVENT
BEGIN:VTIMEZONE
TZID:America/Chicago
X-LIC-LOCATION:America/Chicago
BEGIN:DAYLIGHT
DTSTART:20240310T030000
TZOFFSETFROM:-0600
TZOFFSETTO:-0500
TZNAME:CDT
END:DAYLIGHT
END:VTIMEZONE
END:VCALENDAR