BEGIN:VCALENDAR
VERSION:2.0
PRODID:-//wp-events-plugin.com//7.2.3.1//EN
BEGIN:VEVENT
UID:2280@greenlakelibrary.org
DTSTART:20260523T160000Z
DTEND:20260523T173000Z
DTSTAMP:20260401T152753Z
URL:https://greenlakelibrary.org/events/woodsy-dude-outdoor-explorers-yout
 h-program/
SUMMARY:Woodsy Dude: Outdoor Explorers Youth Program
DESCRIPTION:AGES 5 - 15\n\n1.5-hour youth program brings hands-on outdoor s
 kills with outdoor themed books such as Hatchet\, Sign of the Beaver and I
  Survived book series to LIFE!\n\nStudents will build a primitive survival
  shelter\, learn how to signal for rescue\, create trail markers\, and lea
 rn how to catch food! We will also be looking at wild resources such as st
 one tools and bones. Each student will receive a small kit with survival i
 tems to use throughout the program. They can take these home with them.\n\
 n&nbsp\;\n\nSIGN UP ONLY: PLEASE CONTACT STAFF TO SIGN UP.\n\nCall 920-294
 -3572 or stop by the front desk.\n\nLimit 20 Participants.\n\nThere is a R
 elease Form &amp\; Waiver to sign at time of sign up \n\nor before the pro
 gram begins.
CATEGORIES:Kids
END:VEVENT
END:VCALENDAR